BEGIN:VCALENDAR
VERSION:2.0
PRODID:-//Submission Grappling - ECPv6.15.20//NONSGML v1.0//EN
CALSCALE:GREGORIAN
METHOD:PUBLISH
X-WR-CALNAME:Submission Grappling
X-ORIGINAL-URL:https://submission-grappling.com
X-WR-CALDESC:Veranstaltungen für Submission Grappling
REFRESH-INTERVAL;VALUE=DURATION:PT1H
X-Robots-Tag:noindex
X-PUBLISHED-TTL:PT1H
BEGIN:VTIMEZONE
TZID:UTC
BEGIN:STANDARD
TZOFFSETFROM:+0000
TZOFFSETTO:+0000
TZNAME:UTC
DTSTART:20250101T000000
END:STANDARD
END:VTIMEZONE
BEGIN:VEVENT
DTSTART;TZID=UTC:20260322T100000
DTEND;TZID=UTC:20260322T130000
DTSTAMP:20260421T125111
CREATED:20260305T111956Z
LAST-MODIFIED:20260305T114840Z
UID:799-1774173600-1774184400@submission-grappling.com
SUMMARY:Seminar in Gera
DESCRIPTION:WingTsun GeraSchule für SelbstverteidigungSchleizer Str. 35-3907549 Gera \n			\n			\n				\n				\n				\n				\n			\n				\n				\n				\n				\n				\n				\n				\n				\n				\n				\n				Anmeldung und weitere Infos:\n			\n				Zur Website\n			\n				\n				\n				\n				\n				0163 8711149info@wt-gera.de \n			\n				\n				\n				\n				\n				www.wt-gera.de
URL:https://submission-grappling.com/event/seminar-in-gera/
LOCATION:WingTsun Gera\, Schleizer Straße 35-39\, 07549 Gera\, 07549\, Germany
END:VEVENT
END:VCALENDAR