BEGIN:VCALENDAR
VERSION:2.0
PRODID:-//Submission Grappling - ECPv6.15.20//NONSGML v1.0//EN
CALSCALE:GREGORIAN
METHOD:PUBLISH
X-WR-CALNAME:Submission Grappling
X-ORIGINAL-URL:https://submission-grappling.com
X-WR-CALDESC:Veranstaltungen für Submission Grappling
REFRESH-INTERVAL;VALUE=DURATION:PT1H
X-Robots-Tag:noindex
X-PUBLISHED-TTL:PT1H
BEGIN:VTIMEZONE
TZID:UTC
BEGIN:STANDARD
TZOFFSETFROM:+0000
TZOFFSETTO:+0000
TZNAME:UTC
DTSTART:20240101T000000
END:STANDARD
END:VTIMEZONE
BEGIN:VEVENT
DTSTART;TZID=UTC:20251213T140000
DTEND;TZID=UTC:20251213T170000
DTSTAMP:20260423T130423
CREATED:20251119T114229Z
LAST-MODIFIED:20260122T140257Z
UID:504-1765634400-1765645200@submission-grappling.com
SUMMARY:Seminar in Hockenheim
DESCRIPTION:WTplus Schulen Klostermann\nUntere Hauptstr. 27\n68766 Hockenheim\n			\n			\n				\n				\n				\n				\n			\n				\n				\n				\n				\n				\n				\n				\n				\n				\n				\n				Anmeldung und weitere Infos:\n			\n				Zur Website\n			\n				\n				\n				\n				\n				0151 / 51 11 29 32\ninfo@wtplus-klostermann.de\n			\n				\n				\n				\n				\n				www.wtplus-klostermann.de/seminar-grappling \n			\n			\n				\n				\n				\n				\n			\n				\n				\n			\n				\n				\n				\n				\n				\n				\n				\n				\n				\n				\n				\n				\n				\n				\n				\n				\n				\n				Sei dabei!\n 
URL:https://submission-grappling.com/event/seminar-in-hockenheim/
LOCATION:WTplus Schulen Klostermann\, Untere Hauptstr. 27\, Hockenheim\, 68766\, Germany
END:VEVENT
END:VCALENDAR